BEGIN:VCALENDAR
VERSION:2.0
PRODID:Spatie calendar-links
BEGIN:VEVENT
UID:https://ostsee.tours/termine/132-kieler-woche/
SUMMARY:132. Kieler Woche
DTSTAMP:20260619T220000Z
DTSTART;VALUE=DATE:20260620
DURATION:P9D
DESCRIPTION:Mehr Informationen: https://ostsee.tours/veranstaltungen/kieler-woche/
LOCATION:24103 Kiel  OT Vorstadt
END:VEVENT
END:VCALENDAR